BEGIN:VCALENDAR
VERSION:2.0
PRODID:-//MBAオンラインキャンパス - ECPv6.15.20//NONSGML v1.0//EN
CALSCALE:GREGORIAN
METHOD:PUBLISH
X-ORIGINAL-URL:https://mbaonlinecampus.com
X-WR-CALDESC:MBAオンラインキャンパス のイベント
REFRESH-INTERVAL;VALUE=DURATION:PT1H
X-Robots-Tag:noindex
X-PUBLISHED-TTL:PT1H
BEGIN:VTIMEZONE
TZID:UTC
BEGIN:STANDARD
TZOFFSETFROM:+0000
TZOFFSETTO:+0000
TZNAME:UTC
DTSTART:20210101T000000
END:STANDARD
END:VTIMEZONE
BEGIN:VEVENT
DTSTART;TZID=UTC:20220917T100000
DTEND;TZID=UTC:20220917T233000
DTSTAMP:20260424T023738
CREATED:20220806T122319Z
LAST-MODIFIED:20220906T123021Z
UID:2823-1663408800-1663457400@mbaonlinecampus.com
SUMMARY:MBAオンラインキャンパス【英語セッション】:『Experience Design（エクスペリエンスデザイン）』事業戦略、テクノロジー、マーケティングを横断して顧客体験をデザインする
DESCRIPTION:★HP: mbaonlinecampus.com/\n★FB入会申請\n★プレミアムメンバー登録【イベント】\n詳細日 時:2022年9月17日(土)10:00~11:30 AM(日本時間)|2022年9月16日(金)21:00~22:30(EST/米国東部標準時)テーマ:『Expeirence Deisgn(エクスペリエンスデザイン)』事業戦略、テクノロジー、マーケティングを横断して体験顧客をデザインする\nゲストスピーカー:アリアナ・コブリッツ氏( VP\, Experience Design\, Bank of America )ファシーター:クラー 加奈恵(Experience Design Director )内容:MBAオンラインキャンパスの英語イベントになります。日本語訳も随所入りますが、メインは英語で行われる予定です。 \n「デジタルトランスフォーメーション(DX)」と同様、「カスタマーエクスペリエンス(CX)」というキーワードが使われる機会が非常に多く、DXとCXなしにはビジネスを語ることができない昨今となっている。CXの原点は、先に生まれた「ユーザーエクスペリエンス(UX)」だと捉えることもできる。当時はコンピュータやシステムにおいてインタフェースという発想を超えて、体験そのものに根ざし、体験そのものを変えていくという発想であった。CXもこのUXから派生・発展したものであり、根本的な考え方は同じである。つまり、顧客と企業の接点を顧客の視点から連続して捉え、顧客の期待や企業からの提供物・サービス、そして提供価値を明確にしていこうというものである。 \nCX(顧客体験)をデザインしていく上で、必要になってくるデザインの手法、フレームワークが確立されつつあるが、日本ではまだまだ、DXやUXに取り組んでいる企業が大半でると考える。そこで、アメリカ大企業で先駆者的に顧客体験をデザインするエクスパート「Experience Designer」として活躍し、現在も世界有数の金融機関のひとつ、バンク・オブ・アメリカにて、VP、エクスペリエンスデザインとしてデザインプラクティスをリードするアリアナコブリッツ氏をお迎えします。スターンフォード大学で修学したエンジニアリング（工学）とリサーチのバックグラウンドを持つ彼女が、どのようにしてエクスペリエンスデザインの分野に進んだのか、また、フォーチュン50社でどのようにデザイン手法を導入し、顧客体験を構築してきたのか、その事例を紹介していただきます。 \n【ゲストスピーカー:アリアナ・コブリッツ氏のご経歴】\nエクスペリエンス・デザイナーのアリアナ・コブリッツは、現在、バンク・オブ・アメリカでの様々なデザインプロジェクトを率いている。以前は他の金融関連企業や保険会社、スタートアップ、デザインコンサルタント会社などでの先駆者的にエクスペリエンスデザイナーとして活躍してきた経験がある。企業のビジョンを実現し、人間中心設計の手法を導入するために、業務部門の垣根を越えて顧客体験を創り出すことに喜びを感じている。スタンフォード大学、プロダクトデザイン・プログラム 学士号取得。 \n今回のMBAオンラインキャンパスはAriana Koblitz氏のご発表のあと、彼女の元同僚でもあるファシリテーターを務めるクラーとのQ&Aトークセッション形式で行います。皆さまからのご質問もたくさん受け付けたいと思います。日英どちらの言語でも構いませんので、ぜひ、Q&Aに積極的にご参加ください。 \n【ファシリテーター:クラー 加奈恵の経歴】\n現在、某外資系企業にて、Experience Design Director として、UXデザインのみならず、よりよい顧客体験(CX)づくりや顧客中心の企業文化醸成(EX)に従事。デザインの視点から顧客、ユーザのニーズを捉え、問題解決につなげるデザインプロセスの手法を日々の業務やプロジェクトに組み込んでいる。\n• ニューヨーク大学インタラクティブメディア修士号取得\n• ニールセン・ノーマン・グループによるUXマスター認証保持 \n※運営応援チケットは、講師が受けとるものではなくMBAオンラインキャンパスの運営費用(ZOOM代・研究書籍等・HPやブログ、メールシステムを構築中)に活用致します。是非、応援寄付下さい。 \n※予約はこちら:https://peatix.com/event/3351925/ \n\n\n 
URL:https://mbaonlinecampus.com/event/mba%e3%82%aa%e3%83%b3%e3%83%a9%e3%82%a4%e3%83%b3%e3%82%ad%e3%83%a3%e3%83%b3%e3%83%91%e3%82%b9%e3%80%90%e8%8b%b1%e8%aa%9e%e3%82%bb%e3%83%83%e3%82%b7%e3%83%a7%e3%83%b3%e3%80%91%e3%80%8eexperience-desig/
CATEGORIES:MBAオンラインキャンパスイベント,英語イベント
ATTACH;FMTTYPE=image/jpeg:https://mbaonlinecampus.com/wp-content/uploads/2022/09/スライド2.jpg
END:VEVENT
END:VCALENDAR