BEGIN:VCALENDAR
VERSION:2.0
PRODID:-//MBAオンラインキャンパス - ECPv6.15.20//NONSGML v1.0//EN
CALSCALE:GREGORIAN
METHOD:PUBLISH
X-ORIGINAL-URL:https://mbaonlinecampus.com
X-WR-CALDESC:MBAオンラインキャンパス のイベント
REFRESH-INTERVAL;VALUE=DURATION:PT1H
X-Robots-Tag:noindex
X-PUBLISHED-TTL:PT1H
BEGIN:VTIMEZONE
TZID:UTC
BEGIN:STANDARD
TZOFFSETFROM:+0000
TZOFFSETTO:+0000
TZNAME:UTC
DTSTART:20210101T000000
END:STANDARD
END:VTIMEZONE
BEGIN:VTIMEZONE
TZID:Asia/Tokyo
BEGIN:STANDARD
TZOFFSETFROM:+0900
TZOFFSETTO:+0900
TZNAME:JST
DTSTART:20210101T000000
END:STANDARD
END:VTIMEZONE
BEGIN:VEVENT
DTSTART;TZID=UTC:20220219T181500
DTEND;TZID=UTC:20220219T194500
DTSTAMP:20260424T190322
CREATED:20220130T061230Z
LAST-MODIFIED:20220130T130506Z
UID:2372-1645294500-1645299900@mbaonlinecampus.com
SUMMARY:DXになぜエクスペリエンスデザインが必要なのか
DESCRIPTION:MBAオンラインキャンパス　メンバー交流会イベント \n運営メンバー＆スピーカー \nテーマ：DXになぜエクスペリエンスデザインが必要なのか \n \nよりよい顧客体験（CX）づくりや顧客中心の企業文化醸成（EX)に従事 \n前職ではグローバル企業、MetLife ニューヨーク本社\, グローバルブランド＆マーケティング、カスタマーエクスペリエンスデザイン部門にて、グローバル UX/XD Directorを務める。グローバルブランド＆マーケティング施策の一貫として、各マーケットの企業サイト、業務支援システム、顧客向けアプリなどのマーケティングDX化をユーザーエクスペリエンス（UX）の専門家として数々のプロジェクトに携わる。 \nユーザーエクスペリエンス（UX）デザインに関する様々なガイドライン、サイト、業務システム、携帯アプリなどのユーザーインターフェース（UI）コンポーネントを一元化したデザインシステム構築にも着手。\nUXデザイナー、デジタルストラテジストとして、クリエイティブエージェンシー（R/GA NY\, Ogilvy One Japan）、スタートアップ、JALシステム会社などでの業務経験も豊富。 \nニューヨーク大学インタラクティブメディア修士号取得 \n2022年2月19日(土）1８時15分～１９時45分　ZOOM開催！その後懇親会！　　　　　　　
URL:https://mbaonlinecampus.com/event/dx%e3%81%ab%e3%81%aa%e3%81%9c%e3%82%a8%e3%82%af%e3%82%b9%e3%83%9a%e3%83%aa%e3%82%a8%e3%83%b3%e3%82%b9%e3%83%87%e3%82%b6%e3%82%a4%e3%83%b3%e3%81%8c%e5%bf%85%e8%a6%81%e3%81%aa%e3%81%ae%e3%81%8b/
CATEGORIES:MBAオンラインキャンパスイベント
ATTACH;FMTTYPE=image/jpeg:https://mbaonlinecampus.com/wp-content/uploads/2022/01/2021-0128_kanae_clar-scaled.jpg
END:VEVENT
BEGIN:VEVENT
DTSTART;TZID=UTC:20220219T123000
DTEND;TZID=UTC:20220219T143000
DTSTAMP:20260424T190322
CREATED:20220130T132940Z
LAST-MODIFIED:20220130T133254Z
UID:2385-1645273800-1645281000@mbaonlinecampus.com
SUMMARY:「実践！SDGsブランディング」 本気で社会課題解決と利益を両立させるセミナー＆ワークショップ
DESCRIPTION:概要：・SDGsに取り組むことで、ビジネスを活性化させ、ブランディングに成功している実例についてお話しさせていただきます。\n\n・皆さん自身が社会課題解決をビジネス化させることができるようになることを目的に、ワークショップを行います。\n・社会や地域の中で、立場が最も脆弱な人たちへの貢献を行い、多くのリスペクトを集めている企業や団体の取り組みについてお話しさせていただきます。\n■儲かるSDGs\n■SDGs（国連が掲げる2030年に向けてのゴール）実践による経営と地域活性化\n■コロナ禍のV字回復15連発\n■企業と地域をグングン活性化する事業化発想の着眼点と実践ノウハウ\n■「地方創生」「地域経済再生」を成功させるためにモデル事例から学ぶ“地方創生プロジェクト”\n■ヒット商品の創り方・売り込み方\n■延びる企業･お店に生まれ変わる『変身術』\n■経営革新を成功させる市場の掴み方とマーケティングの知識\n■事業を成功に導く最新ノウハウ\n■農商工連携を成功させる、事業計画策定手法\n■事業アイデア創出のポイント■ちょっとの工夫で売上を伸ばす「売上アップの最新事例」　ほか経歴＆プロフィール「SDGsブランディングの教科書」（宣伝会議）、「儲かるSDGs」（クロスメディアパブリッシング）著者。1969年 山梨県甲府市生まれ。立命館大学文学部哲学科心理学専攻卒業後、㈱船井総合研究所入所。2000年3月に㈱ノウハウバンクを設立し、代表取締役に就任。都道府県、市町村などまち全体の地域活性化はもちろん、各地の伝統産業再生や、地元企業のブランディングを柱とした企業の業績アップなど、マクロ・ミクロ両面からの地域活性化・SDGs推進が高い評価を得ている。東京ビックサイト、幕張メッセで行われる大型イベントなどでSDGsセミナーや研修の講師を務めている。※無料予約チケットと運営費応援チケットを用意しています。応援できる方は是非、よろしくお願い致します！\n運営応援チケットは、講師が受けとるものではなくMBAオンラインキャンパスの運営費用（ZOOM代・研究書籍等・HPやブログ、メールシステムを構築中）に活用致します。
URL:https://mbaonlinecampus.com/event/%e3%80%8c%e5%ae%9f%e8%b7%b5%ef%bc%81sdgs%e3%83%96%e3%83%a9%e3%83%b3%e3%83%87%e3%82%a3%e3%83%b3%e3%82%b0%e3%80%8d-%e6%9c%ac%e6%b0%97%e3%81%a7%e7%a4%be%e4%bc%9a%e8%aa%b2%e9%a1%8c%e8%a7%a3%e6%b1%ba/
CATEGORIES:MBAオンラインキャンパスイベント
ATTACH;FMTTYPE=image/jpeg:https://mbaonlinecampus.com/wp-content/uploads/2022/01/2022-0219_hirotaka_mishina.jpg
END:VEVENT
BEGIN:VEVENT
DTSTART;TZID=Asia/Tokyo:20220128T193000
DTEND;TZID=Asia/Tokyo:20220128T213000
DTSTAMP:20260424T190322
CREATED:20220119T112959Z
LAST-MODIFIED:20220130T045845Z
UID:2356-1643398200-1643405400@mbaonlinecampus.com
SUMMARY:アフターデジタル時代のUX経営
DESCRIPTION:テーマ：「アフターデジタル時代のUX経営」 \n概要：デジタルが当然となった環境において、企業はUX(ユーザエクスペリエンス）を軸とした経営へと変革を迫られています。新たな挑戦に踏み出すための切り口となる考え方を提示します。 \n \nMBAオンラインキャンパス事務局より・・・・\nDXは、UXを軸とした経営の変革が前提だと思います。beBit 執行役員COOの藤井さんがアフターデジタルという書籍を出して話題となっています。デジタル大国中国の企業の変革をご紹介しています。最近、またアフターデジタル２の書籍が出ています。UXグロースモデル、アフターデジタルを生き抜くための実践方法論を紹介した書籍も出版されています。\nアフターデジタル時代にあるべきUX業務とは何か、なぜその変革が必要で、何をどのような組織で行うべきか。\n皆さんで議論していきましょう。\n事前に、書籍を読んでおくといいですね！\n貴重なイベント機会です。DX時代の次世代型デジタルビジネスモデルを全企業考えていく中で研究余地の高い視点での議論なるはずです。MBAホルダー、在校生は必ずこの視点でのスコープ持つことが必要なはずです。 \n【経歴】\n1974年鳥取県生まれ。横浜国立大学経営学部卒。米国留学、ソフトウエア開発会社、アンダーセンコンサルティング（現アクセンチュア）を経て、2000年3月、ビービットを設立し代表取締役に就任。設立当時から“ユーザビリティ、ユーザエクスペリエンスの重要性”に着目し、UXコンサルティングを提供。2017年からはチームの「UX企画力」を支えるSaaS、UXチームクラウド「USERGRAM」の提供を開始。 \n【MBAオンラインキャンパスについて】\n日本を元気にするイノベーション創出を目的としたプロジェクト型コミュニティ、 日本のイノベーションを強力に推進するため、MBAオンラインキャンパスを立ち上げました。\n→URL:https://www.facebook.com/groups/287773872924284\nDX戦略、イノベーション、ビジネスモデル研究、起業など、MBAメンバーを中心に修士、博士、業界の第一線で活躍しているビジネスパーソン、MBA取得に興味がある方々を対象として、有益な情報と刺激を提供し、議論や交流を通じて世の中に大きな影響を与えていく「場」を提供します。 \n※無料予約チケットと運営費応援チケットを用意しています。応援できる方は是非、よろしくお願い致します！\n運営応援チケットは、講師が受けとるものではなくMBAオンラインキャンパスの運営費用（ZOOM代・研究書籍等・HPやブログ、メールシステムを構築中）に活用致します。
URL:https://mbaonlinecampus.com/event/%e3%82%a2%e3%83%95%e3%82%bf%e3%83%bc%e3%83%87%e3%82%b8%e3%82%bf%e3%83%ab%e6%99%82%e4%bb%a3%e3%81%aeux%e7%b5%8c%e5%96%b6/
CATEGORIES:MBAオンラインキャンパスイベント
ATTACH;FMTTYPE=image/jpeg:https://mbaonlinecampus.com/wp-content/uploads/2022/01/2021-0128_naoki_endo.jpg
END:VEVENT
END:VCALENDAR