BEGIN:VCALENDAR
VERSION:2.0
PRODID:-//MBAオンラインキャンパス - ECPv6.15.20//NONSGML v1.0//EN
CALSCALE:GREGORIAN
METHOD:PUBLISH
X-WR-CALNAME:MBAオンラインキャンパス
X-ORIGINAL-URL:https://mbaonlinecampus.com
X-WR-CALDESC:MBAオンラインキャンパス のイベント
REFRESH-INTERVAL;VALUE=DURATION:PT1H
X-Robots-Tag:noindex
X-PUBLISHED-TTL:PT1H
BEGIN:VTIMEZONE
TZID:UTC
BEGIN:STANDARD
TZOFFSETFROM:+0000
TZOFFSETTO:+0000
TZNAME:UTC
DTSTART:20210101T000000
END:STANDARD
END:VTIMEZONE
BEGIN:VEVENT
DTSTART;TZID=UTC:20220322T073000
DTEND;TZID=UTC:20220322T193000
DTSTAMP:20260424T172332
CREATED:20220327T071607Z
LAST-MODIFIED:20220327T073957Z
UID:2506-1647934200-1647977400@mbaonlinecampus.com
SUMMARY:デジタル人事戦略
DESCRIPTION:ゲストスピーカー:鵜澤 慎一郎 氏司会:中央大学大学院戦略経営研究科MBA卒業生 松浦 由美子氏 \n●テーマ： デジタル人事戦略 \n内容: DX戦略とは何か、連続イベントをしています。DX（デジタルトランスフォーメーション）が企業変革の鍵とされる中、デジタル変革からは一見縁遠い組織・人材の変革がDXの成功には必要不可欠であることが各種調査で明らかになっており、DXと組織・人材の変革を組み合わせた効果的なアプローチと新たな人材マネジメントのあり方を考えることは人事部門だけでなく、経営者・すべてのビジネスリーダーに求められます。 \nデジタル時代の人事戦略は、MBA必須のDX戦略経営であり是非、リアル参加下さい。（録画公開は未定） \nHRDXの教科書の著者であるEYのピープル・アドバイザリー・サービスは日本で230名超、世界で1万3千名超（2021年10月現在）を擁するグローバル組織・人材コンサルティング組織であり、本書では国内・海外で行ってきた数多くのプロジェクト経験やクライアントとの討議内容を再構成・体系化しました。ソニーピープルソリューションズ、メルカリ、サイバーエージェント、三菱UFJ銀行、アステラス製薬、SAPジャパン等、HRDX先進企業のHRリーダーたちによる事例も含まれており、現在求められているHRの役割や戦略がわかりやすく解説されています。 \n※運営メンバーより、ビジネスブレークスルー大学大学院MBAでは、DX人材養成マネジメント講座があり、デジタル経営戦略、\nデジタルマーケティング、デジタルＵＸグロース戦略、デジタル人事戦略等々の複数講座で構成されたプログラムがあります。\n一連の教授、客員教授が登場した連続イベントを開催しています。\n他の大学院MBAでは、学ぶことができない視点での知識です。ご参加をお勧め致します。 \n※無料予約チケットと運営費応援チケットを用意しています。応援できる方は是非、よろしくお願い致します!\n運営応援チケットは、講師が受けとるものではなくMBAオンラインキャンパスの運営費用(ZOOM代・研究書籍等・HPやブログ、メールシステムを構築中)に活用致します。
URL:https://mbaonlinecampus.com/event/%e3%83%87%e3%82%b8%e3%82%bf%e3%83%ab%e4%ba%ba%e4%ba%8b%e6%88%a6%e7%95%a5/
CATEGORIES:MBAオンラインキャンパスイベント
ATTACH;FMTTYPE=image/jpeg:https://mbaonlinecampus.com/wp-content/uploads/2022/03/スライド1.jpg
END:VEVENT
END:VCALENDAR